BEGIN:VCALENDAR
PRODID:-//172.67.138.29//NONSGML iCalcreator 2.6//
VERSION:2.0
BEGIN:VEVENT
UID:20260420T003712UTC-5905rJCaKJ@172.67.138.29
DTSTAMP:20260420T003712Z
CATEGORIES:AupaDeportivoAragónEvents
DESCRIPTION:
DTSTART:20260426T120000
LOCATION:
SUMMARY:D. Aragón – Real Unión Irún
END:VEVENT
END:VCALENDAR
